BEGIN:VCALENDAR
VERSION:2.0
PRODID:SchoolNow
CALSCALE:GREGORIAN
BEGIN:VEVENT
UID:8cedb64c-d9e9-11ef-8693-0a58a9feac02
DTSTAMP:20250124T002418Z
SUMMARY:Basketball (Girls V) @ Lebanon Holiday Classic
LOCATION:Lebanon Senior High School
URL;VALUE=URI:https://www.tricreek.k12.in.us/lhs/calendar/7360503/basketbal
 l-girls-v-lebanon-holiday-classic
DTSTART:20241227T200000Z
DTEND:20241227T220000Z
END:VEVENT
END:VCALENDAR
