BEGIN:VCALENDAR
VERSION:2.0
PRODID:SchoolNow
CALSCALE:GREGORIAN
BEGIN:VEVENT
UID:8cedbf84-d9e9-11ef-bbb3-0a58a9feac02
DTSTAMP:20250124T002418Z
SUMMARY:Basketball (Girls V) - Hobart High School
LOCATION:Lowell Senior High School
URL;VALUE=URI:https://www.tricreek.k12.in.us/lhs/calendar/7360505/basketbal
 l-girls-v-hobart-high-school
DTSTART:20260116T010000Z
DTEND:20260116T030000Z
END:VEVENT
END:VCALENDAR
