BEGIN:VCALENDAR
VERSION:2.0
PRODID:SchoolNow
CALSCALE:GREGORIAN
BEGIN:VEVENT
UID:8cedc088-d9e9-11ef-acc9-0a58a9feac02
DTSTAMP:20250124T002418Z
SUMMARY:Basketball (Girls V) - Griffith Senior High School
LOCATION:Lowell Senior High School
URL;VALUE=URI:https://www.tricreek.k12.in.us/lhs/calendar/7360506/basketbal
 l-girls-v-griffith-senior-high-school
DTSTART:20251122T193000Z
DTEND:20251122T213000Z
END:VEVENT
END:VCALENDAR
