BEGIN:VCALENDAR
VERSION:2.0
PRODID:SchoolNow
CALSCALE:GREGORIAN
BEGIN:VEVENT
UID:8cedc182-d9e9-11ef-a475-0a58a9feac02
DTSTAMP:20250124T002418Z
SUMMARY:Basketball (Girls V) @ Andrean High School
LOCATION:Andrean High School
URL;VALUE=URI:https://www.tricreek.k12.in.us/lhs/calendar/7360507/basketbal
 l-girls-v-andrean-high-school
DTSTART:20260110T203000Z
DTEND:20260110T223000Z
END:VEVENT
END:VCALENDAR
