BEGIN:VCALENDAR
VERSION:2.0
PRODID:SchoolNow
CALSCALE:GREGORIAN
BEGIN:VEVENT
UID:8cedc268-d9e9-11ef-91b0-0a58a9feac02
DTSTAMP:20250124T002418Z
SUMMARY:Basketball (Girls V) @ Crown Point High School
LOCATION:Crown Point High School
URL;VALUE=URI:https://www.tricreek.k12.in.us/lhs/calendar/7360508/basketbal
 l-girls-v-crown-point-high-school
DTSTART:20241204T010000Z
DTEND:20241204T030000Z
END:VEVENT
END:VCALENDAR
