BEGIN:VCALENDAR
VERSION:2.0
PRODID:SchoolNow
CALSCALE:GREGORIAN
BEGIN:VEVENT
UID:8cedc43e-d9e9-11ef-a27a-0a58a9feac02
DTSTAMP:20250124T002418Z
SUMMARY:Basketball (Girls V) @ Merrillville High School
LOCATION:Merrillville High School
URL;VALUE=URI:https://www.tricreek.k12.in.us/lhs/calendar/7360510/basketbal
 l-girls-v-merrillville-high-school
DTSTART:20250129T010000Z
DTEND:20250129T030000Z
END:VEVENT
END:VCALENDAR
