BEGIN:VCALENDAR
VERSION:2.0
PRODID:SchoolNow
CALSCALE:GREGORIAN
BEGIN:VEVENT
UID:8cedc51a-d9e9-11ef-926b-0a58a9feac02
DTSTAMP:20250124T002418Z
SUMMARY:Basketball (Girls V) - River Forest Sr High School
LOCATION:Lowell Senior High School
URL;VALUE=URI:https://www.tricreek.k12.in.us/lhs/calendar/7360511/basketbal
 l-girls-v-river-forest-sr-high-school
DTSTART:20251112T010059Z
DTEND:20251112T030059Z
END:VEVENT
END:VCALENDAR
