BEGIN:VCALENDAR
VERSION:2.0
PRODID:SchoolNow
CALSCALE:GREGORIAN
BEGIN:VEVENT
UID:8cedc5f6-d9e9-11ef-9d5c-0a58a9feac02
DTSTAMP:20250124T002418Z
SUMMARY:Basketball (Girls V) - Andrean High School
LOCATION:Lowell Senior High School
URL;VALUE=URI:https://www.tricreek.k12.in.us/lhs/calendar/7360512/basketbal
 l-girls-v-andrean-high-school
DTSTART:20250111T203000Z
DTEND:20250111T223000Z
END:VEVENT
END:VCALENDAR
