BEGIN:VCALENDAR
VERSION:2.0
PRODID:SchoolNow
CALSCALE:GREGORIAN
BEGIN:VEVENT
UID:8cedc75e-d9e9-11ef-933b-0a58a9feac02
DTSTAMP:20250124T002418Z
SUMMARY:Basketball (Girls V) - East Chicago Central High School
LOCATION:Lowell Senior High School
URL;VALUE=URI:https://www.tricreek.k12.in.us/lhs/calendar/7360513/basketbal
 l-girls-v-east-chicago-central-high-school
DTSTART:20241116T203000Z
DTEND:20241116T223000Z
END:VEVENT
END:VCALENDAR
