BEGIN:VCALENDAR
VERSION:2.0
PRODID:SchoolNow
CALSCALE:GREGORIAN
BEGIN:VEVENT
UID:8cedce16-d9e9-11ef-bd57-0a58a9feac02
DTSTAMP:20250124T002418Z
SUMMARY:Basketball (Girls V) - Munster High School
LOCATION:Lowell Senior High School
URL;VALUE=URI:https://www.tricreek.k12.in.us/lhs/calendar/7360515/basketbal
 l-girls-v-munster-high-school
DTSTART:20251213T010000Z
DTEND:20251213T030000Z
END:VEVENT
END:VCALENDAR
