BEGIN:VCALENDAR
VERSION:2.0
PRODID:SchoolNow
CALSCALE:GREGORIAN
BEGIN:VEVENT
UID:8cedcf92-d9e9-11ef-8ed1-0a58a9feac02
DTSTAMP:20250124T002418Z
SUMMARY:Basketball (Girls V) @ Wheeler HS/Union Township MS
LOCATION:Wheeler HS/Union Township MS
URL;VALUE=URI:https://www.tricreek.k12.in.us/lhs/calendar/7360516/basketbal
 l-girls-v-wheeler-hs-union-township-ms
DTSTART:20251105T010000Z
DTEND:20251105T030000Z
END:VEVENT
END:VCALENDAR
