BEGIN:VCALENDAR
VERSION:2.0
PRODID:SchoolNow
CALSCALE:GREGORIAN
BEGIN:VEVENT
UID:8cedd096-d9e9-11ef-af10-0a58a9feac02
DTSTAMP:20250124T002418Z
SUMMARY:Basketball (Girls V) @ Hebron
LOCATION:Hebron
URL;VALUE=URI:https://www.tricreek.k12.in.us/lhs/calendar/7360517/basketbal
 l-girls-v-hebron
DTSTART:20251119T010000Z
DTEND:20251119T030000Z
END:VEVENT
END:VCALENDAR
