BEGIN:VCALENDAR
VERSION:2.0
PRODID:SchoolNow
CALSCALE:GREGORIAN
BEGIN:VEVENT
UID:8cedd186-d9e9-11ef-964e-0a58a9feac02
DTSTAMP:20250124T002418Z
SUMMARY:Basketball (Girls V) - Highland High School
LOCATION:Lowell Senior High School
URL;VALUE=URI:https://www.tricreek.k12.in.us/lhs/calendar/7360518/basketbal
 l-girls-v-highland-high-school
DTSTART:20260107T010000Z
DTEND:20260107T030000Z
END:VEVENT
END:VCALENDAR
