BEGIN:VCALENDAR
VERSION:2.0
PRODID:SchoolNow
CALSCALE:GREGORIAN
BEGIN:VEVENT
UID:8cedd366-d9e9-11ef-8c5a-0a58a9feac02
DTSTAMP:20250124T002418Z
SUMMARY:Basketball (Girls V) @ CGA Winter Classic
LOCATION:Culver Academies
URL;VALUE=URI:https://www.tricreek.k12.in.us/lhs/calendar/7360520/basketbal
 l-girls-v-cga-winter-classic
DTSTART:20260117T150000Z
DTEND:20260117T170000Z
END:VEVENT
END:VCALENDAR
