BEGIN:VCALENDAR
VERSION:2.0
PRODID:SchoolNow
CALSCALE:GREGORIAN
BEGIN:VEVENT
UID:8cedd816-d9e9-11ef-8254-0a58a9feac02
DTSTAMP:20250124T002418Z
SUMMARY:Basketball (Girls V) @ North Newton Jr-Sr High School
LOCATION:North Newton
URL;VALUE=URI:https://www.tricreek.k12.in.us/lhs/calendar/7360521/basketbal
 l-girls-v-north-newton-jr-sr-high-school
DTSTART:20251108T183000Z
DTEND:20251108T200000Z
END:VEVENT
END:VCALENDAR
