BEGIN:VCALENDAR
VERSION:2.0
PRODID:SchoolNow
CALSCALE:GREGORIAN
BEGIN:VEVENT
UID:8cedd974-d9e9-11ef-8848-0a58a9feac02
DTSTAMP:20250124T002418Z
SUMMARY:Basketball (Girls V) @ Griffith Senior High School
LOCATION:Griffith Senior High School
URL;VALUE=URI:https://www.tricreek.k12.in.us/lhs/calendar/7360522/basketbal
 l-girls-v-griffith-senior-high-school
DTSTART:20241124T010000Z
DTEND:20241124T030000Z
END:VEVENT
END:VCALENDAR
