BEGIN:VCALENDAR
VERSION:2.0
PRODID:SchoolNow
CALSCALE:GREGORIAN
BEGIN:VEVENT
UID:8cedda64-d9e9-11ef-a547-0a58a9feac02
DTSTAMP:20250124T002418Z
SUMMARY:Basketball (Girls V) - Wheeler High School
LOCATION:Lowell Senior High School
URL;VALUE=URI:https://www.tricreek.k12.in.us/lhs/calendar/7360523/basketbal
 l-girls-v-wheeler-high-school
DTSTART:20241106T010000Z
DTEND:20241106T030000Z
END:VEVENT
END:VCALENDAR
