BEGIN:VCALENDAR
VERSION:2.0
PRODID:SchoolNow
CALSCALE:GREGORIAN
BEGIN:VEVENT
UID:8ceddb54-d9e9-11ef-bc9b-0a58a9feac02
DTSTAMP:20250124T002418Z
SUMMARY:Basketball (Girls V) @ Highland High School
LOCATION:Highland High School
URL;VALUE=URI:https://www.tricreek.k12.in.us/lhs/calendar/7360524/basketbal
 l-girls-v-highland-high-school
DTSTART:20250108T010000Z
DTEND:20250108T030000Z
END:VEVENT
END:VCALENDAR
