BEGIN:VCALENDAR
VERSION:2.0
PRODID:SchoolNow
CALSCALE:GREGORIAN
BEGIN:VEVENT
UID:8ceddc3a-d9e9-11ef-88df-0a58a9feac02
DTSTAMP:20250124T002418Z
SUMMARY:Basketball (Girls V) @ Kouts Middle/High School
LOCATION:Kouts Middle/High School
URL;VALUE=URI:https://www.tricreek.k12.in.us/lhs/calendar/7360525/basketbal
 l-girls-v-kouts-middle-high-school
DTSTART:20241218T010000Z
DTEND:20241218T030000Z
END:VEVENT
END:VCALENDAR
