BEGIN:VCALENDAR
VERSION:2.0
PRODID:SchoolNow
CALSCALE:GREGORIAN
BEGIN:VEVENT
UID:8ceddd20-d9e9-11ef-8b27-0a58a9feac02
DTSTAMP:20250124T002418Z
SUMMARY:Baseball (Boys F) @ Rensselaer Central High School
LOCATION:RCHS BB Field
URL;VALUE=URI:https://www.tricreek.k12.in.us/lhs/calendar/7360526/baseball-
 boys-f-rensselaer-central-high-school
DTSTART:20250512T214500Z
DTEND:20250512T234500Z
END:VEVENT
END:VCALENDAR
