BEGIN:VCALENDAR
VERSION:2.0
PRODID:SchoolNow
CALSCALE:GREGORIAN
BEGIN:VEVENT
UID:8cedde06-d9e9-11ef-bdfd-0a58a9feac02
DTSTAMP:20250124T002418Z
SUMMARY:Baseball (Boys F) - Munster High School
LOCATION:Lowell Senior High School
URL;VALUE=URI:https://www.tricreek.k12.in.us/lhs/calendar/7360527/baseball-
 boys-f-munster-high-school
DTSTART:20250514T220000Z
DTEND:20250515T000000Z
END:VEVENT
END:VCALENDAR
