BEGIN:VCALENDAR
VERSION:2.0
PRODID:SchoolNow
CALSCALE:GREGORIAN
BEGIN:VEVENT
UID:8cede02c-d9e9-11ef-84a3-0a58a9feac02
DTSTAMP:20250124T002418Z
SUMMARY:Baseball (Boys F) - Crown Point High School
LOCATION:Lowell Senior High School
URL;VALUE=URI:https://www.tricreek.k12.in.us/lhs/calendar/7360528/baseball-
 boys-f-crown-point-high-school
DTSTART:20250424T213000Z
DTEND:20250424T233000Z
END:VEVENT
END:VCALENDAR
