BEGIN:VCALENDAR
VERSION:2.0
PRODID:SchoolNow
CALSCALE:GREGORIAN
BEGIN:VEVENT
UID:8cede1f8-d9e9-11ef-b824-0a58a9feac02
DTSTAMP:20250124T002418Z
SUMMARY:Baseball (Boys F) - Hanover Central Jr-Sr High School
LOCATION:Lowell Senior High School
URL;VALUE=URI:https://www.tricreek.k12.in.us/lhs/calendar/7360530/baseball-
 boys-f-hanover-central-jr-sr-high-school
DTSTART:20250430T213002Z
DTEND:20250430T233002Z
END:VEVENT
END:VCALENDAR
