BEGIN:VCALENDAR
VERSION:2.0
PRODID:SchoolNow
CALSCALE:GREGORIAN
BEGIN:VEVENT
UID:8cede2d4-d9e9-11ef-9b8b-0a58a9feac02
DTSTAMP:20250124T002418Z
SUMMARY:Baseball (Boys F) @ Hobart High School
LOCATION:Hobart High School
URL;VALUE=URI:https://www.tricreek.k12.in.us/lhs/calendar/7360531/baseball-
 boys-f-hobart-high-school
DTSTART:20250522T214500Z
DTEND:20250522T234500Z
END:VEVENT
END:VCALENDAR
