BEGIN:VCALENDAR
VERSION:2.0
PRODID:SchoolNow
CALSCALE:GREGORIAN
BEGIN:VEVENT
UID:8cede3ba-d9e9-11ef-a74d-0a58a9feac02
DTSTAMP:20250124T002418Z
SUMMARY:Baseball (Boys F) @ Munster High School
LOCATION:Munster High School
URL;VALUE=URI:https://www.tricreek.k12.in.us/lhs/calendar/7360532/baseball-
 boys-f-munster-high-school
DTSTART:20250410T220000Z
DTEND:20250411T000000Z
END:VEVENT
END:VCALENDAR
