BEGIN:VCALENDAR
VERSION:2.0
PRODID:SchoolNow
CALSCALE:GREGORIAN
BEGIN:VEVENT
UID:8cede496-d9e9-11ef-86d2-0a58a9feac02
DTSTAMP:20250124T002418Z
SUMMARY:Baseball (Boys F) - Portage High School
LOCATION:Lowell Senior High School
URL;VALUE=URI:https://www.tricreek.k12.in.us/lhs/calendar/7360533/baseball-
 boys-f-portage-high-school
DTSTART:20250417T213000Z
DTEND:20250417T233000Z
END:VEVENT
END:VCALENDAR
