BEGIN:VCALENDAR
VERSION:2.0
PRODID:SchoolNow
CALSCALE:GREGORIAN
BEGIN:VEVENT
UID:8cede64e-d9e9-11ef-908a-0a58a9feac02
DTSTAMP:20250124T002418Z
SUMMARY:Baseball (Boys F) @ Highland High School
LOCATION:Highland High School
URL;VALUE=URI:https://www.tricreek.k12.in.us/lhs/calendar/7360535/baseball-
 boys-f-highland-high-school
DTSTART:20250507T214500Z
DTEND:20250507T234500Z
END:VEVENT
END:VCALENDAR
