BEGIN:VCALENDAR
VERSION:2.0
PRODID:SchoolNow
CALSCALE:GREGORIAN
BEGIN:VEVENT
UID:8cede720-d9e9-11ef-b130-0a58a9feac02
DTSTAMP:20250124T002418Z
SUMMARY:Baseball (Boys F) @ Hobart
LOCATION:Hobart High School
URL;VALUE=URI:https://www.tricreek.k12.in.us/lhs/calendar/7360536/baseball-
 boys-f-hobart
DTSTART:20250411T213000Z
DTEND:20250411T233000Z
END:VEVENT
END:VCALENDAR
