BEGIN:VCALENDAR
VERSION:2.0
PRODID:SchoolNow
CALSCALE:GREGORIAN
BEGIN:VEVENT
UID:8cede7f2-d9e9-11ef-bc1c-0a58a9feac02
DTSTAMP:20250124T002418Z
SUMMARY:Baseball (Boys F) - Lake Central High School
LOCATION:Lowell Senior High School
URL;VALUE=URI:https://www.tricreek.k12.in.us/lhs/calendar/7360537/baseball-
 boys-f-lake-central-high-school
DTSTART:20250519T213007Z
DTEND:20250519T233007Z
END:VEVENT
END:VCALENDAR
