BEGIN:VCALENDAR
VERSION:2.0
PRODID:SchoolNow
CALSCALE:GREGORIAN
BEGIN:VEVENT
UID:8cede8ce-d9e9-11ef-9069-0a58a9feac02
DTSTAMP:20250124T002418Z
SUMMARY:Golf (Girls V) - Kankakee Valley High School
LOCATION:Lowell Senior High School
URL;VALUE=URI:https://www.tricreek.k12.in.us/lhs/calendar/7360538/golf-girl
 s-v-kankakee-valley-high-school
DTSTART:20250822T213000Z
DTEND:20250822T233000Z
END:VEVENT
END:VCALENDAR
