BEGIN:VCALENDAR
VERSION:2.0
PRODID:SchoolNow
CALSCALE:GREGORIAN
BEGIN:VEVENT
UID:8cede9aa-d9e9-11ef-a9ba-0a58a9feac02
DTSTAMP:20250124T002418Z
SUMMARY:Golf (Girls V) - Munster High School
LOCATION:Lowell Senior High School
URL;VALUE=URI:https://www.tricreek.k12.in.us/lhs/calendar/7360539/golf-girl
 s-v-munster-high-school
DTSTART:20250825T210057Z
DTEND:20250825T230057Z
END:VEVENT
END:VCALENDAR
