BEGIN:VCALENDAR
VERSION:2.0
PRODID:SchoolNow
CALSCALE:GREGORIAN
BEGIN:VEVENT
UID:8cedea7c-d9e9-11ef-8c4c-0a58a9feac02
DTSTAMP:20250124T002418Z
SUMMARY:Golf (Girls V) @ Hobart High School
LOCATION:Hobart High School
URL;VALUE=URI:https://www.tricreek.k12.in.us/lhs/calendar/7360540/golf-girl
 s-v-hobart-high-school
DTSTART:20250827T210000Z
DTEND:20250827T230000Z
END:VEVENT
END:VCALENDAR
