BEGIN:VCALENDAR
VERSION:2.0
PRODID:SchoolNow
CALSCALE:GREGORIAN
BEGIN:VEVENT
UID:8cedeb58-d9e9-11ef-99aa-0a58a9feac02
DTSTAMP:20250124T002418Z
SUMMARY:Golf (Girls V) @ Lake Central Invitational
LOCATION:Lake Central High School
URL;VALUE=URI:https://www.tricreek.k12.in.us/lhs/calendar/7360541/golf-girl
 s-v-lake-central-invitational
DTSTART:20250806T130000Z
DTEND:20250806T150000Z
END:VEVENT
END:VCALENDAR
