BEGIN:VCALENDAR
VERSION:2.0
PRODID:SchoolNow
CALSCALE:GREGORIAN
BEGIN:VEVENT
UID:8cedec2a-d9e9-11ef-af02-0a58a9feac02
DTSTAMP:20250124T002418Z
SUMMARY:Golf (Girls V) @ KV Invite
LOCATION:Kankakee Valley High School
URL;VALUE=URI:https://www.tricreek.k12.in.us/lhs/calendar/7360542/golf-girl
 s-v-kv-invite
DTSTART:20250804T130000Z
DTEND:20250804T150000Z
END:VEVENT
END:VCALENDAR
