BEGIN:VCALENDAR
VERSION:2.0
PRODID:SchoolNow
CALSCALE:GREGORIAN
BEGIN:VEVENT
UID:8ceded06-d9e9-11ef-b194-0a58a9feac02
DTSTAMP:20250124T002418Z
SUMMARY:Golf (Girls V) @ Rensselaer Central High School
LOCATION:Rensselaer Central High School
URL;VALUE=URI:https://www.tricreek.k12.in.us/lhs/calendar/7360543/golf-girl
 s-v-rensselaer-central-high-school
DTSTART:20250915T213000Z
DTEND:20250915T233000Z
END:VEVENT
END:VCALENDAR
