BEGIN:VCALENDAR
VERSION:2.0
PRODID:SchoolNow
CALSCALE:GREGORIAN
BEGIN:VEVENT
UID:8cededd8-d9e9-11ef-ad7e-0a58a9feac02
DTSTAMP:20250124T002418Z
SUMMARY:Golf (Girls V) - Covenant Christian High School DeMotte
LOCATION:Lowell Senior High School
URL;VALUE=URI:https://www.tricreek.k12.in.us/lhs/calendar/7360544/golf-girl
 s-v-covenant-christian-high-school-demotte
DTSTART:20250829T210000Z
DTEND:20250829T230000Z
END:VEVENT
END:VCALENDAR
