BEGIN:VCALENDAR
VERSION:2.0
PRODID:SchoolNow
CALSCALE:GREGORIAN
BEGIN:VEVENT
UID:8cedeeb4-d9e9-11ef-be08-0a58a9feac02
DTSTAMP:20250124T002418Z
SUMMARY:Baseball (Boys JV) - Andrean High School
LOCATION:Lowell Senior High School
URL;VALUE=URI:https://www.tricreek.k12.in.us/lhs/calendar/7360545/baseball-
 boys-jv-andrean-high-school
DTSTART:20250506T214500Z
DTEND:20250506T234500Z
END:VEVENT
END:VCALENDAR
