BEGIN:VCALENDAR
VERSION:2.0
PRODID:SchoolNow
CALSCALE:GREGORIAN
BEGIN:VEVENT
UID:8cedef86-d9e9-11ef-bf3e-0a58a9feac02
DTSTAMP:20250124T002418Z
SUMMARY:Baseball (Boys JV) @ Illiana Christian High School
LOCATION:Illiana Christian High School
URL;VALUE=URI:https://www.tricreek.k12.in.us/lhs/calendar/7360546/baseball-
 boys-jv-illiana-christian-high-school
DTSTART:20250419T150000Z
DTEND:20250419T190000Z
END:VEVENT
END:VCALENDAR
