BEGIN:VCALENDAR
VERSION:2.0
PRODID:SchoolNow
CALSCALE:GREGORIAN
BEGIN:VEVENT
UID:8cedf062-d9e9-11ef-a043-0a58a9feac02
DTSTAMP:20250124T002418Z
SUMMARY:Baseball (Boys JV) - Griffith Senior High School
LOCATION:Lowell Senior High School
URL;VALUE=URI:https://www.tricreek.k12.in.us/lhs/calendar/7360547/baseball-
 boys-jv-griffith-senior-high-school
DTSTART:20250417T220015Z
DTEND:20250418T000015Z
END:VEVENT
END:VCALENDAR
