BEGIN:VCALENDAR
VERSION:2.0
PRODID:SchoolNow
CALSCALE:GREGORIAN
BEGIN:VEVENT
UID:8cedf134-d9e9-11ef-89d9-0a58a9feac02
DTSTAMP:20250124T002418Z
SUMMARY:Baseball (Boys JV) @ Munster High School
LOCATION:Munster High School
URL;VALUE=URI:https://www.tricreek.k12.in.us/lhs/calendar/7360548/baseball-
 boys-jv-munster-high-school
DTSTART:20250422T220000Z
DTEND:20250423T000000Z
END:VEVENT
END:VCALENDAR
