BEGIN:VCALENDAR
VERSION:2.0
PRODID:SchoolNow
CALSCALE:GREGORIAN
BEGIN:VEVENT
UID:8cedf210-d9e9-11ef-9c14-0a58a9feac02
DTSTAMP:20250124T002418Z
SUMMARY:Baseball (Boys JV) - Hanover Central Jr-Sr High School
LOCATION:Lowell Senior High School
URL;VALUE=URI:https://www.tricreek.k12.in.us/lhs/calendar/7360549/baseball-
 boys-jv-hanover-central-jr-sr-high-school
DTSTART:20250429T214500Z
DTEND:20250429T234500Z
END:VEVENT
END:VCALENDAR
