BEGIN:VCALENDAR
VERSION:2.0
PRODID:SchoolNow
CALSCALE:GREGORIAN
BEGIN:VEVENT
UID:8cee0b10-d9e9-11ef-8ad7-0a58a9feac02
DTSTAMP:20250124T002418Z
SUMMARY:Baseball (Boys JV) - Hobart High School
LOCATION:Lowell Senior High School
URL;VALUE=URI:https://www.tricreek.k12.in.us/lhs/calendar/7360553/baseball-
 boys-jv-hobart-high-school
DTSTART:20250519T214500Z
DTEND:20250519T234500Z
END:VEVENT
END:VCALENDAR
