BEGIN:VCALENDAR
VERSION:2.0
PRODID:SchoolNow
CALSCALE:GREGORIAN
BEGIN:VEVENT
UID:8cee0bf6-d9e9-11ef-b511-0a58a9feac02
DTSTAMP:20250124T002418Z
SUMMARY:Baseball (Boys JV) @ Kankakee Valley High School
LOCATION:Kankakee Valley High School
URL;VALUE=URI:https://www.tricreek.k12.in.us/lhs/calendar/7360554/baseball-
 boys-jv-kankakee-valley-high-school
DTSTART:20250512T213022Z
DTEND:20250512T233022Z
END:VEVENT
END:VCALENDAR
