BEGIN:VCALENDAR
VERSION:2.0
PRODID:SchoolNow
CALSCALE:GREGORIAN
BEGIN:VEVENT
UID:8cee0cd2-d9e9-11ef-8216-0a58a9feac02
DTSTAMP:20250124T002418Z
SUMMARY:Baseball (Boys JV) @ Hanover Central Jr-Sr High School
LOCATION:Hanover Central Jr-Sr High School
URL;VALUE=URI:https://www.tricreek.k12.in.us/lhs/calendar/7360555/baseball-
 boys-jv-hanover-central-jr-sr-high-school
DTSTART:20250428T214500Z
DTEND:20250428T234500Z
END:VEVENT
END:VCALENDAR
