BEGIN:VCALENDAR
VERSION:2.0
PRODID:SchoolNow
CALSCALE:GREGORIAN
BEGIN:VEVENT
UID:8cee0e94-d9e9-11ef-bf2a-0a58a9feac02
DTSTAMP:20250124T002418Z
SUMMARY:Baseball (Boys JV) @ Bishop Noll Institute School
LOCATION:Bishop Noll Institute School
URL;VALUE=URI:https://www.tricreek.k12.in.us/lhs/calendar/7360557/baseball-
 boys-jv-bishop-noll-institute-school
DTSTART:20250416T213000Z
DTEND:20250416T233000Z
END:VEVENT
END:VCALENDAR
