BEGIN:VCALENDAR
VERSION:2.0
PRODID:SchoolNow
CALSCALE:GREGORIAN
BEGIN:VEVENT
UID:8cee0f70-d9e9-11ef-aaa3-0a58a9feac02
DTSTAMP:20250124T002418Z
SUMMARY:Baseball (Boys JV) - Portage High School
LOCATION:Lowell Senior High School
URL;VALUE=URI:https://www.tricreek.k12.in.us/lhs/calendar/7360558/baseball-
 boys-jv-portage-high-school
DTSTART:20250509T213053Z
DTEND:20250509T233053Z
END:VEVENT
END:VCALENDAR
