BEGIN:VCALENDAR
VERSION:2.0
PRODID:SchoolNow
CALSCALE:GREGORIAN
BEGIN:VEVENT
UID:8cee1042-d9e9-11ef-bfe6-0a58a9feac02
DTSTAMP:20250124T002418Z
SUMMARY:Baseball (Boys JV) @ Andrean High School
LOCATION:Andrean High School
URL;VALUE=URI:https://www.tricreek.k12.in.us/lhs/calendar/7360559/baseball-
 boys-jv-andrean-high-school
DTSTART:20250505T214500Z
DTEND:20250505T234500Z
END:VEVENT
END:VCALENDAR
