BEGIN:VCALENDAR
VERSION:2.0
PRODID:SchoolNow
CALSCALE:GREGORIAN
BEGIN:VEVENT
UID:8cee111e-d9e9-11ef-b2e1-0a58a9feac02
DTSTAMP:20250124T002418Z
SUMMARY:Baseball (Boys JV) - Munster High School
LOCATION:Lowell Senior High School
URL;VALUE=URI:https://www.tricreek.k12.in.us/lhs/calendar/7360560/baseball-
 boys-jv-munster-high-school
DTSTART:20250421T220000Z
DTEND:20250422T000000Z
END:VEVENT
END:VCALENDAR
