BEGIN:VCALENDAR
VERSION:2.0
PRODID:SchoolNow
CALSCALE:GREGORIAN
BEGIN:VEVENT
UID:8cee12d6-d9e9-11ef-9d1b-0a58a9feac02
DTSTAMP:20250124T002418Z
SUMMARY:Baseball (Boys JV) - Merrillville High School
LOCATION:Lowell Senior High School
URL;VALUE=URI:https://www.tricreek.k12.in.us/lhs/calendar/7360562/baseball-
 boys-jv-merrillville-high-school
DTSTART:20250411T213000Z
DTEND:20250411T233000Z
END:VEVENT
END:VCALENDAR
