BEGIN:VCALENDAR
VERSION:2.0
PRODID:SchoolNow
CALSCALE:GREGORIAN
BEGIN:VEVENT
UID:8cee13a8-d9e9-11ef-b526-0a58a9feac02
DTSTAMP:20250124T002418Z
SUMMARY:Baseball (Boys JV) - Crown Point High School
LOCATION:Lowell Senior High School
URL;VALUE=URI:https://www.tricreek.k12.in.us/lhs/calendar/7360563/baseball-
 boys-jv-crown-point-high-school
DTSTART:20250508T213000Z
DTEND:20250508T233000Z
END:VEVENT
END:VCALENDAR
